BEGIN:VCALENDAR
VERSION:2.0
PRODID:-//ÖkoSoziale Initiative - ECPv6.15.20//NONSGML v1.0//EN
CALSCALE:GREGORIAN
METHOD:PUBLISH
X-WR-CALNAME:ÖkoSoziale Initiative
X-ORIGINAL-URL:https://oekosoziale-initiative.at
X-WR-CALDESC:Veranstaltungen für ÖkoSoziale Initiative
REFRESH-INTERVAL;VALUE=DURATION:PT1H
X-Robots-Tag:noindex
X-PUBLISHED-TTL:PT1H
BEGIN:VTIMEZONE
TZID:Europe/Vienna
BEGIN:DAYLIGHT
TZOFFSETFROM:+0100
TZOFFSETTO:+0200
TZNAME:CEST
DTSTART:20230326T010000
END:DAYLIGHT
BEGIN:STANDARD
TZOFFSETFROM:+0200
TZOFFSETTO:+0100
TZNAME:CET
DTSTART:20231029T010000
END:STANDARD
BEGIN:DAYLIGHT
TZOFFSETFROM:+0100
TZOFFSETTO:+0200
TZNAME:CEST
DTSTART:20240331T010000
END:DAYLIGHT
BEGIN:STANDARD
TZOFFSETFROM:+0200
TZOFFSETTO:+0100
TZNAME:CET
DTSTART:20241027T010000
END:STANDARD
BEGIN:DAYLIGHT
TZOFFSETFROM:+0100
TZOFFSETTO:+0200
TZNAME:CEST
DTSTART:20250330T010000
END:DAYLIGHT
BEGIN:STANDARD
TZOFFSETFROM:+0200
TZOFFSETTO:+0100
TZNAME:CET
DTSTART:20251026T010000
END:STANDARD
BEGIN:DAYLIGHT
TZOFFSETFROM:+0100
TZOFFSETTO:+0200
TZNAME:CEST
DTSTART:20260329T010000
END:DAYLIGHT
BEGIN:STANDARD
TZOFFSETFROM:+0200
TZOFFSETTO:+0100
TZNAME:CET
DTSTART:20261025T010000
END:STANDARD
BEGIN:DAYLIGHT
TZOFFSETFROM:+0100
TZOFFSETTO:+0200
TZNAME:CEST
DTSTART:20270328T010000
END:DAYLIGHT
BEGIN:STANDARD
TZOFFSETFROM:+0200
TZOFFSETTO:+0100
TZNAME:CET
DTSTART:20271031T010000
END:STANDARD
END:VTIMEZONE
BEGIN:VEVENT
DTSTART;TZID=Europe/Vienna:20260124T100000
DTEND;TZID=Europe/Vienna:20260124T170000
DTSTAMP:20260424T074901
CREATED:20251008T131951Z
LAST-MODIFIED:20251020T125525Z
UID:2155-1769248800-1769274000@oekosoziale-initiative.at
SUMMARY:ÖSI-Klausur am Sa\, 24. Jänner 2026/in Tulln
DESCRIPTION:SAVE THE DATE: die Klausur vom 26.April 2025 brachte Wünsche\, Erwartungen und Ziele für die ÖSI an die Oberfläche\, die in einem seit dem permanent stattfindenden Prozess in eine Organisationsentwicklung eingearbeitet werden. Die kommende Klausur wird wieder allen Mitgliedern und deren unmittelbaren aktiven Umfeld zur Verfügung stehen um dort – den Wunsch der letzten Klausur entsprechend – an einer Themenklausur teilzunehmen. \n\n\n\nThema und Ablauf werden noch entwickelt. Sicher ist: es wird spannend\, es wird ökosoziale Kräfte vernetzen und stärken. Und wir werden auch viel Spaß haben. Also SAVE THE DATE!!
URL:https://oekosoziale-initiative.at/event/oesi-klausur-am-sa-24-jaenner-2026-in-tulln/
LOCATION:Junges Hotel Tulln\, Marc-Aurel-Park 1\, Tulln\, Niederösterreich\, Austria
CATEGORIES:ÖSI-Gemeindevertreterverband
ATTACH;FMTTYPE=image/jpeg:https://oekosoziale-initiative.at/wp-content/uploads/2025/04/Foto_vor_Hotel_2.jpg
END:VEVENT
BEGIN:VEVENT
DTSTART;TZID=Europe/Vienna:20251201T190000
DTEND;TZID=Europe/Vienna:20251201T203000
DTSTAMP:20260424T074901
CREATED:20250516T080406Z
LAST-MODIFIED:20251008T131608Z
UID:1945-1764615600-1764621000@oekosoziale-initiative.at
SUMMARY:nächste Onlinesitzung am 1.12.2025: ÖSI Politik Stammtisch 19-20.30 Uhr
DESCRIPTION:Im 2-3 Monatsrhythmus immer am ersten Montag des jeweiligen Monats findet der “ÖSI Politik-Stammtisch statt. Dieses Treffen dient der grundsätzlichen Vernetzung\, wir wollen in Verbindung bleiben. Themen können von allen Teilnehmer:innen (wenn geht) im Vorfeld eingebracht werden. Vor allem Themen\, die übergeordnet vielleicht für alle Listen der ÖSI-Listengemeinschaft interessant sind\, sollen hier besprochen werden. Es braucht Beschlüsse und gemeinsame Vorgehensweisen\, ob und in welcher Ausprägung Themen öffentlich und überregional kommuniziert werden sollen und ob es Projekte oder Themen gibt\, bei denen wir uns gegenseitig unterstützen können. \n\n\n\nEingeladen sind alle ÖSI-Gemeinderät:innen und ihr unmittelbares Listenumfeld. Im gleichen Maße wichtig und herzlich eingeladen sind alle ÖSI-Ortsgruppen\, die politisch aktiv sind und NOCH nicht im Gemeinderat vertreten sind. Wir wollen durch das monatliche Treffen in Verbindung bleiben\, miteinander wachsen und zu der ÖkoSozialen Kraft werden\, die es (nicht nur) in NÖ aus unserer Sicht unbedingt braucht.  \n\n\n\nEinladungslink ist fix und wird an Teilnehmer:innen per WhatsApp verschickt (einfach irgendwo abspeichern). \n\n\n\n\nKontakt-Mail: Christian Oberlechner\n\n\n\n\n\n\n\n\nAlso: Save the Date – Montag 1. 12.2025 ist ÖSI-Tag!
URL:https://oekosoziale-initiative.at/event/oesi-politik-stammtisch-1-dezember-2025/
LOCATION:Niederösterreich
CATEGORIES:ÖSI-Gemeindevertreterverband
ATTACH;FMTTYPE=image/jpeg:https://oekosoziale-initiative.at/wp-content/uploads/2025/03/Stammtisch_Sujet.jpg
END:VEVENT
BEGIN:VEVENT
DTSTART;TZID=Europe/Vienna:20251006T190000
DTEND;TZID=Europe/Vienna:20251006T203000
DTSTAMP:20260424T074901
CREATED:20250516T080034Z
LAST-MODIFIED:20250516T080038Z
UID:1941-1759777200-1759782600@oekosoziale-initiative.at
SUMMARY:Zoom 6.10.2025: ÖSI Politik Stammtisch - jeden ersten Montag im Monat 19-20.30 Uhr
DESCRIPTION:Jeden ersten Montag im Monat findet der “ÖSI Politik-Stammtisch statt. Dieses monatliche Treffen dient der grundsätzlichen Vernetzung\, wir wollen in Verbindung bleiben. Themen können von allen Teilnehmer:innen (wenn geht) im Vorfeld eingebracht werden. Vor allem Themen\, die übergeordnet vielleicht für alle Listen der ÖSI-Listengemeinschaft interessant sind\, sollen hier besprochen werden. Es braucht Beschlüsse und gemeinsame Vorgehensweisen\, ob und in welcher Ausprägung Themen öffentlich und überregional kommuniziert werden sollen und ob es Projekte oder Themen gibt\, bei denen wir uns gegenseitig unterstützen können.   \n\n\n\nEingeladen sind alle ÖSI-Gemeinderät:innen und ihr unmittelbares Listenumfeld. Im gleichen Maße wichtig und herzlich eingeladen sind alle ÖSI-Ortsgruppen\, die politisch aktiv sind und NOCH nicht im Gemeinderat vertreten sind. Wir wollen durch das monatliche Treffen in Verbindung bleiben\, miteinander wachsen und zu der ÖkoSozialen Kraft werden\, die es (nicht nur) in NÖ aus unserer Sicht unbedingt braucht.  \n\n\n\nEinladungslink ist fix und wird an Teilnehmer:innen per WhatsApp verschickt (einfach irgendwo abspeichern). \n\n\n\n\nKontakt-Mail: Christian Oberlechner\n\n\n\n\n\n\n\n\nAlso: Save the Date – Montag ist ÖSI-Tag!
URL:https://oekosoziale-initiative.at/event/zoom-6-10-2025-oesi-politik-stammtisch-jeden-ersten-montag-im-monat-19-20-30-uhr/
LOCATION:Niederösterreich
CATEGORIES:ÖSI-Gemeindevertreterverband
ATTACH;FMTTYPE=image/jpeg:https://oekosoziale-initiative.at/wp-content/uploads/2025/03/Stammtisch_Sujet.jpg
END:VEVENT
BEGIN:VEVENT
DTSTART;TZID=Europe/Vienna:20250901T190000
DTEND;TZID=Europe/Vienna:20250901T203000
DTSTAMP:20260424T074901
CREATED:20250516T075922Z
LAST-MODIFIED:20250516T075926Z
UID:1939-1756753200-1756758600@oekosoziale-initiative.at
SUMMARY:Zoom 1.9.2025: ÖSI Politik Stammtisch - jeden ersten Montag im Monat 19-20.30 Uhr
DESCRIPTION:Jeden ersten Montag im Monat findet der “ÖSI Politik-Stammtisch statt. Dieses monatliche Treffen dient der grundsätzlichen Vernetzung\, wir wollen in Verbindung bleiben. Themen können von allen Teilnehmer:innen (wenn geht) im Vorfeld eingebracht werden. Vor allem Themen\, die übergeordnet vielleicht für alle Listen der ÖSI-Listengemeinschaft interessant sind\, sollen hier besprochen werden. Es braucht Beschlüsse und gemeinsame Vorgehensweisen\, ob und in welcher Ausprägung Themen öffentlich und überregional kommuniziert werden sollen und ob es Projekte oder Themen gibt\, bei denen wir uns gegenseitig unterstützen können.   \n\n\n\nEingeladen sind alle ÖSI-Gemeinderät:innen und ihr unmittelbares Listenumfeld. Im gleichen Maße wichtig und herzlich eingeladen sind alle ÖSI-Ortsgruppen\, die politisch aktiv sind und NOCH nicht im Gemeinderat vertreten sind. Wir wollen durch das monatliche Treffen in Verbindung bleiben\, miteinander wachsen und zu der ÖkoSozialen Kraft werden\, die es (nicht nur) in NÖ aus unserer Sicht unbedingt braucht.  \n\n\n\nEinladungslink ist fix und wird an Teilnehmer:innen per WhatsApp verschickt (einfach irgendwo abspeichern). \n\n\n\n\nKontakt-Mail: Christian Oberlechner\n\n\n\n\n\n\n\n\nAlso: Save the Date – Montag ist ÖSI-Tag!
URL:https://oekosoziale-initiative.at/event/zoom-1-9-2025-oesi-politik-stammtisch-jeden-ersten-montag-im-monat-19-20-30-uhr/
LOCATION:Niederösterreich
CATEGORIES:ÖSI-Gemeindevertreterverband
ATTACH;FMTTYPE=image/jpeg:https://oekosoziale-initiative.at/wp-content/uploads/2025/03/Stammtisch_Sujet.jpg
END:VEVENT
BEGIN:VEVENT
DTSTART;TZID=Europe/Vienna:20250604T140000
DTEND;TZID=Europe/Vienna:20250604T180000
DTSTAMP:20260424T074901
CREATED:20250513T132528Z
LAST-MODIFIED:20250513T143912Z
UID:1872-1749045600-1749060000@oekosoziale-initiative.at
SUMMARY:Hitzeaktionstag am 4. Juni am Stadtplatz Gmünd
DESCRIPTION:Hitze kann ihre Gesundheit gefährden!\n\n\n\nUm ein Bewusstsein für die Auswirkungen von Hitze auf Gesundheit und Lebensraum zu schaffen und um zu klimafreundlichem Handeln zu motivieren\, machen die Parents for Future dies am Hitzeaktionstag zum Thema. \n\n\n\nKomm vorbei! Sprechen wir darüber\, suchen wir gemeinsam nach Lösungen für die aktuellen Fragen! \n\n\n\nDie ÖSI unterstützt die Aktion in Gmünd vollinhaltlich! \n\n\n\n\nHomepage “Hitzeaktionstag”\n\n\n\n\n\n\n\n\nProgramm\n\n\n\n\nInfostand und Verteilung von Infomaterial\n\n\n\nAusstellung der Plakate von Artist for Future Tom Poe\n\n\n\nAusstellung Klima – Denk – Mal von Philipp Kronbichler\n\n\n\nHitzemessung am Stadtplatz mit Wärmebildkamera\n\n\n\nSpaziergang in den Stadtpark mit Tree mapping und vergleichender Hitzemessung unter Bäumen
URL:https://oekosoziale-initiative.at/event/hitzeaktionstag-am-4-juni-am-stadtplatz-gmuend/
LOCATION:Stadtplatz\, 3950 Gmünd\, Gmünd\, Austria
ATTACH;FMTTYPE=image/jpeg:https://oekosoziale-initiative.at/wp-content/uploads/2025/05/Hitzeaktionstag_duerrerBaum_mitLogo.jpg
END:VEVENT
BEGIN:VEVENT
DTSTART;TZID=Europe/Vienna:20250602T190000
DTEND;TZID=Europe/Vienna:20250602T203000
DTSTAMP:20260424T074901
CREATED:20250516T075709Z
LAST-MODIFIED:20250516T075713Z
UID:1935-1748890800-1748896200@oekosoziale-initiative.at
SUMMARY:Zoom 2.6.2025: ÖSI Politik Stammtisch - jeden ersten Montag im Monat 19-20.30 Uhr
DESCRIPTION:Jeden ersten Montag im Monat findet der “ÖSI Politik-Stammtisch statt. Dieses monatliche Treffen dient der grundsätzlichen Vernetzung\, wir wollen in Verbindung bleiben. Themen können von allen Teilnehmer:innen (wenn geht) im Vorfeld eingebracht werden. Vor allem Themen\, die übergeordnet vielleicht für alle Listen der ÖSI-Listengemeinschaft interessant sind\, sollen hier besprochen werden. Es braucht Beschlüsse und gemeinsame Vorgehensweisen\, ob und in welcher Ausprägung Themen öffentlich und überregional kommuniziert werden sollen und ob es Projekte oder Themen gibt\, bei denen wir uns gegenseitig unterstützen können.   \n\n\n\nEingeladen sind alle ÖSI-Gemeinderät:innen und ihr unmittelbares Listenumfeld. Im gleichen Maße wichtig und herzlich eingeladen sind alle ÖSI-Ortsgruppen\, die politisch aktiv sind und NOCH nicht im Gemeinderat vertreten sind. Wir wollen durch das monatliche Treffen in Verbindung bleiben\, miteinander wachsen und zu der ÖkoSozialen Kraft werden\, die es (nicht nur) in NÖ aus unserer Sicht unbedingt braucht.  \n\n\n\nEinladungslink ist fix und wird an Teilnehmer:innen per WhatsApp verschickt (einfach irgendwo abspeichern). \n\n\n\n\nKontakt-Mail: Christian Oberlechner\n\n\n\n\n\n\n\n\nAlso: Save the Date – Montag ist ÖSI-Tag!
URL:https://oekosoziale-initiative.at/event/zoom-2-6-2025-oesi-politik-stammtisch-jeden-ersten-montag-im-monat-19-20-30-uhr/
LOCATION:Niederösterreich
CATEGORIES:ÖSI-Gemeindevertreterverband
ATTACH;FMTTYPE=image/jpeg:https://oekosoziale-initiative.at/wp-content/uploads/2025/03/Stammtisch_Sujet.jpg
END:VEVENT
BEGIN:VEVENT
DTSTART;TZID=Europe/Vienna:20250505T190000
DTEND;TZID=Europe/Vienna:20250505T203000
DTSTAMP:20260424T074901
CREATED:20250516T075146Z
LAST-MODIFIED:20250516T075150Z
UID:1934-1746471600-1746477000@oekosoziale-initiative.at
SUMMARY:Zoom 5.5.2025: ÖSI Politik Stammtisch - jeden ersten Montag im Monat\, 19-20.30 Uhr
DESCRIPTION:Jeden ersten Montag im Monat findet der “ÖSI Politik-Stammtisch statt. Dieses monatliche Treffen dient der grundsätzlichen Vernetzung\, wir wollen in Verbindung bleiben. Themen können von allen Teilnehmer:innen (wenn geht) im Vorfeld eingebracht werden. Vor allem Themen\, die übergeordnet vielleicht für alle Listen der ÖSI-Listengemeinschaft interessant sind\, sollen hier besprochen werden. Es braucht Beschlüsse und gemeinsame Vorgehensweisen\, ob und in welcher Ausprägung Themen öffentlich und überregional kommuniziert werden sollen und ob es Projekte oder Themen gibt\, bei denen wir uns gegenseitig unterstützen können.   \n\n\n\nEingeladen sind alle ÖSI-Gemeinderät:innen und ihr unmittelbares Listenumfeld. Im gleichen Maße wichtig und herzlich eingeladen sind alle ÖSI-Ortsgruppen\, die politisch aktiv sind und NOCH nicht im Gemeinderat vertreten sind. Wir wollen durch das monatliche Treffen in Verbindung bleiben\, miteinander wachsen und zu der ÖkoSozialen Kraft werden\, die es (nicht nur) in NÖ aus unserer Sicht unbedingt braucht.  \n\n\n\nEinladungslink ist fix und wird an Teilnehmer:innen per WhatsApp verschickt (einfach irgendwo abspeichern). \n\n\n\n\nKontakt-Mail: Christian Oberlechner\n\n\n\n\n\n\n\n\nAlso: Save the Date – Montag ist ÖSI-Tag!
URL:https://oekosoziale-initiative.at/event/zoom-5-5-2025-oesi-politik-stammtisch-jeden-ersten-montag-im-monat-19-20-30-uhr/
LOCATION:Niederösterreich
CATEGORIES:ÖSI-Gemeindevertreterverband
ATTACH;FMTTYPE=image/jpeg:https://oekosoziale-initiative.at/wp-content/uploads/2025/03/Stammtisch_Sujet.jpg
END:VEVENT
BEGIN:VEVENT
DTSTART;TZID=Europe/Vienna:20250426T140000
DTEND;TZID=Europe/Vienna:20250426T180000
DTSTAMP:20260424T074901
CREATED:20250124T163559Z
LAST-MODIFIED:20250124T173200Z
UID:1429-1745676000-1745690400@oekosoziale-initiative.at
SUMMARY:ÖSI-Klausur & Generalversammlung
DESCRIPTION:Im ÖSI-Gemeindevertreterverband liegt durch Bewahren der ökologischen\, demokratischen und menschrechtlichen Werte eine große Chance auf positive Veränderung. Die ÖSI-Klausur ist ein weiterer Schritt dorthin.\n\n\n\n\n\n\n\nSave The Date\n\n\n\nAm 26. April 2025 findet die erste ÖSI-Klausur statt. Eine Vorbereitungsgruppe ist dabei die Inhalte\, Ablauf und Organisation dieses Zusammentreffens zu organisieren und festzulegen. Eine Eckpunkte stehen aber schon fest: \n\n\n\n26.April 2025 voraussichtlich von 14-18 Uhr\n\n\n\n\n\n\n\nOrt\n\n\n\nVoraussichtlich in Tulln in Bahnhofsnähe\, öffentliche Anreise wird gut möglich sein. Als niederösterreichweite Organisation werden zukünftige Treffen so organisiert\, dass die Tagungsorte für alle Listen in etwa gleich gut erreichbar sind. \n\n\n\n\n\n\n\nInhalte\n\n\n\n\nGemeinsames Kennenlernen\n\n\n\nSchaffung von Kontaktmöglichkeiten\, Vernetzung\n\n\n\nFokus auf die Ausrichtung und Entwicklung des ÖSI-Gemeindevertreterverbandes mit möglichst großem Beteiligungspotential der anwesenden Teilnehmer:innen\n\n\n\n\n\n\n\n\nTeilnahme\n\n\n\nEinladungen erfolgen per Mail.  \n\n\n\nBei Interesse können Interessenten unter folgender Mail nähere Infos bekommen: \n\n\n\n\nInfos zur Veranstaltung / Mail
URL:https://oekosoziale-initiative.at/event/oesi-klausur-generalversammlung/
LOCATION:Niederösterreich
CATEGORIES:ÖSI-Gemeindevertreterverband
ATTACH;FMTTYPE=image/jpeg:https://oekosoziale-initiative.at/wp-content/uploads/2025/01/Change.jpg
END:VEVENT
BEGIN:VEVENT
DTSTART;TZID=Europe/Vienna:20250407T190000
DTEND;TZID=Europe/Vienna:20250407T203000
DTSTAMP:20260424T074901
CREATED:20250329T075601Z
LAST-MODIFIED:20250516T075431Z
UID:1662-1744052400-1744057800@oekosoziale-initiative.at
SUMMARY:Zoom 7.4.2025: ÖSI Politik Stammtisch - jeden ersten Montag im Monat\, 19-20.30 Uhr
DESCRIPTION:Jeden ersten Montag im Monat findet der “ÖSI Politik-Stammtisch statt. Dieses monatliche Treffen dient der grundsätzlichen Vernetzung\, wir wollen in Verbindung bleiben. Themen können von allen Teilnehmer:innen (wenn geht) im Vorfeld eingebracht werden. Vor allem Themen\, die übergeordnet vielleicht für alle Listen der ÖSI-Listengemeinschaft interessant sind\, sollen hier besprochen werden. Es braucht Beschlüsse und gemeinsame Vorgehensweisen\, ob und in welcher Ausprägung Themen öffentlich und überregional kommuniziert werden sollen und ob es Projekte oder Themen gibt\, bei denen wir uns gegenseitig unterstützen können.   \n\n\n\nEingeladen sind alle ÖSI-Gemeinderät:innen und ihr unmittelbares Listenumfeld. Im gleichen Maße wichtig und herzlich eingeladen sind alle ÖSI-Ortsgruppen\, die politisch aktiv sind und NOCH nicht im Gemeinderat vertreten sind. Wir wollen durch das monatliche Treffen in Verbindung bleiben\, miteinander wachsen und zu der ÖkoSozialen Kraft werden\, die es (nicht nur) in NÖ aus unserer Sicht unbedingt braucht.  \n\n\n\nEinladungslink ist fix und wird an Teilnehmer:innen per WhatsApp verschickt (einfach irgendwo abspeichern). \n\n\n\n\nKontakt-Mail: Christian Oberlechner\n\n\n\n\n\n\n\n\nAlso: Save the Date – Montag ist ÖSI-Tag!
URL:https://oekosoziale-initiative.at/event/zoom-oesi-politik-stammtisch-jeden-ersten-montag-im-monat/
LOCATION:Niederösterreich
CATEGORIES:ÖSI-Gemeindevertreterverband
ATTACH;FMTTYPE=image/jpeg:https://oekosoziale-initiative.at/wp-content/uploads/2025/03/Stammtisch_Sujet.jpg
END:VEVENT
BEGIN:VEVENT
DTSTART;TZID=Europe/Vienna:20250404T170000
DTEND;TZID=Europe/Vienna:20250404T180000
DTSTAMP:20260424T074901
CREATED:20250403T092230Z
LAST-MODIFIED:20250403T093446Z
UID:1671-1743786000-1743789600@oekosoziale-initiative.at
SUMMARY:Stille Kundgebung gegen Schließung LK Gmünd
DESCRIPTION:4. April 2025 um 17 Uhr: Gegen die Schließung unseres Krankenhauses und für die sofortige Beteiligung der Region an der Zukunftsplanung unseres Gesundheitssystem\n\n\n\n\n\n\n\nChristian Oberlechner veranstaltet diese Kundgebung als Privatperson\n\n\n\n\n\n\n\nWarum die Kundgebung?\n\n\n\nWir fordern\, dass das Landesklinikum Gmünd aktiver Teil des NÖ Gesundheitspaktes wird und wehren uns gegen die Schließung des KH. Die als „Ersatz“ gedachte und von einem Privatinvestor auf einer ehemaligen Mülldeponie zu errichtende „Gesundheitsklinik“ ist keinesfalls eine adäquate Gesundheitsversorgung für Gmünd. Die Intransparenz\, die fehlende regionale Einbindung und die Art und Weise der Kommunikation sehen wir als inakzeptable Vorgehensweise der Landesregierung und der Landesgesundheitsagentur an. \n\n\n\nWas fordern WIR?\n\n\n\nWir fordern\, dass der Gesundheitspakt „aufgeschnürt“ und NEU VERHANDELT wird. Es muss sofort ein Beteiligungsprozess gestartet werden\, bei dem alle relevanten regionalen Kräfte mit der LGA an einem „runden Tisch“ zusammenkommen – nur so werden wir eine gesellschaftspolitisch gute Lösung für die Zukunft unserer Region finden.
URL:https://oekosoziale-initiative.at/event/stille-kundgebung-gegen-schliessung-lk-gmuend/
LOCATION:Landesklinikum Gmünd\, Conrathstraße 17\, Gmünd\, Austria
ATTACH;FMTTYPE=image/jpeg:https://oekosoziale-initiative.at/wp-content/uploads/2025/04/CO_LKG_Stille_Kundgebung_4.4_17-Uhr_opt1.jpg
END:VEVENT
BEGIN:VEVENT
DTSTART;TZID=Europe/Vienna:20250126T080000
DTEND;TZID=Europe/Vienna:20250126T170000
DTSTAMP:20260424T074901
CREATED:20241027T093607Z
LAST-MODIFIED:20250122T110017Z
UID:755-1737878400-1737910800@oekosoziale-initiative.at
SUMMARY:Gemeinderatswahl 2025
DESCRIPTION:Gemeinderatswahl 2025 – das erste Mal mit der ÖSI dabei!\n\n\n\nAm Sonntag\, 26.1.2025 findet in Niederösterreich in den meisten Gemeinden die Gemeinderatswahl statt. Es ist die erste Wahl\, bei der Listen\, die Mitglied der ÖSI-Listengemeinschaft sind\, antreten. Der ÖSI-Gemeindevertreterverband bietet politisch aktiven Menschen\, für die Parteien und die Parteilogik keine Option sind\, die Möglichkeit parteiunabhängig ihre Themen im Rahmen der 17 Nachhaltigkeitsziele der UNO (SDGs) umzusetzen. Und das vernetzt in ganz NÖ in einer Gemeinschaft von Gleichgesinnten\, die sich gegenseitig unterstützen. \n\n\n\nDie ÖSI hat sich auf den Weg gemacht\, und wir wünschen uns\, das viele Stimmen diesen Weg bei der Gemeinderatswahl 2025 durch ihr Kreuz am Wahlzettel unterstützen.
URL:https://oekosoziale-initiative.at/event/gemeinderatswahl-2025/
LOCATION:Niederösterreich
ATTACH;FMTTYPE=image/jpeg:https://oekosoziale-initiative.at/wp-content/uploads/2024/10/Bild_Wahl_Kreuz.jpg
END:VEVENT
BEGIN:VEVENT
DTSTART;TZID=Europe/Vienna:20241115T180000
DTEND;TZID=Europe/Vienna:20241115T210000
DTSTAMP:20260424T074901
CREATED:20241024T163608Z
LAST-MODIFIED:20241105T180928Z
UID:622-1731693600-1731704400@oekosoziale-initiative.at
SUMMARY:15.11.2024: Infoabend für Kandidat:innen und Unterstützer:innen der ÖSI
DESCRIPTION:Infoabend in Ferrys Gespräche-Werkstatt\n\n\n\n\n\n\n\nÖSI_Einladung_Infoabend_15_11_2024Herunterladen\n\n\n\n\n\n\n\nAm 15.11.2024 findet von 18-21 Uhr ein Informationsabend statt rund um das Thema: \n\n\n\n“Gemeinderatswahl 2025 – Mitmachen\, aber wie? – Na\, mit der ÖSI!”\n\n\n\nDer Abend richtet sich vor allem an jene Personen\, die sich entweder schon entschlossen haben\, mit Unterstützung der ÖSI anzutreten\, oder es sich noch überlegen bei einer bestehenden Liste anzudocken oder die eine eigene Liste gründen wollen. Wer an diesem Abend teilnehmen möchte wird gebeten sich unter KONTAKT anzumelden \n\n\n\nBis 6. Dezember geht das noch. Um 12 Uhr ist am Gemeindeamt Anmeldeschluss. Und ein wenig vorher sollte mensch schon beginnen\, da es auch noch noch Unterstützungserklärungen braucht. Darüber und über andere wichtige Fragen wird informiert und diskutiert. Es wird an diesem Abend aber auch darum gehen\, uns gegenseitig kennenzulernen. Denn die ÖSI-Listengemeinschaft bedeutet mehr als der Beitritt zu einem Gemeindevertreterverband. \n\n\n\n\n“Die ÖSI-Listengemeinschaft soll mehr werden als nur die Summe ihrer Einzelteile!” \n\n\n\n\nPersönliche Anmeldung erforderlich\n\n\n\nWenn DU Interesse hast und dieses Bürger:innenbeteiligungsprojekt unterstützen möchtest: dann melde dich unter KONTAKT bei Christian Oberlechner oder einem der Vorstandsmitglieder unter VORSTAND. Wir freuen uns auf dich und einen dynamischen und produktiven Austausch.
URL:https://oekosoziale-initiative.at/event/15-11-2024-infoabend-fuer-kandidatinnen/
LOCATION:Pürbach 11\, Pürbach 11\, Pürbach\, Niederösterreich\, Austria
ATTACH;FMTTYPE=image/jpeg:https://oekosoziale-initiative.at/wp-content/uploads/2024/10/OeSI_Infoveranstaltung_Gemeindevertreterverband_Listengemeinschaft_optimiert.jpg
END:VEVENT
BEGIN:VEVENT
DTSTART;TZID=Europe/Vienna:20240927T180000
DTEND;TZID=Europe/Vienna:20240927T210000
DTSTAMP:20260424T074901
CREATED:20240910T090451Z
LAST-MODIFIED:20241027T102003Z
UID:759-1727460000-1727470800@oekosoziale-initiative.at
SUMMARY:Konstituierende Sitzung ÖSI-Gemeindevertreterverband
DESCRIPTION:Einzigartiger Gemeindevertreterverband: die ÖSI\n\n\n\n\n\n\n\nAm 27.9.2024 findet von 18 – 21 Uhr in Pürbach in der “Gespräche Werkstatt” die konstituierende Sitzung des ÖkoSoziale Initiative-Gemeindevertreterverbandes statt. Auf der Tagesordnung stehen im ersten Teil das Kennenlernen der Teilnehmer:innen und die Information über die grundlegenden Ideen und Ziele des Vereines\, der von Elisabeth Eckhart und Christian Oberlechner im Sommer 2024 gegründet wurde. Im zweiten Teil findet die eigentliche konstituierende Sitzung statt\, bei der der Vorstand gewählt wird\, das ÖSI Grundsatz-Manifest beschlossen wird und die Mitgliedsbeiträge festgesetzt werden.
URL:https://oekosoziale-initiative.at/event/konstituierende-sitzung-oesi-gemeindevertreterverband/
LOCATION:Pürbach 11\, Pürbach 11\, 3944 Schrems\, Austria
CATEGORIES:ÖSI-Gemeindevertreterverband
ATTACH;FMTTYPE=image/jpeg:https://oekosoziale-initiative.at/wp-content/uploads/2024/10/OeSI_PP_Wahl.jpg
END:VEVENT
END:VCALENDAR